BEGIN:VCALENDAR
VERSION:2.0
PRODID:-//ChamberMaster//Event Calendar 2.0//EN
METHOD:PUBLISH
X-PUBLISHED-TTL:P1H
REFRESH-INTERVAL:P1H
CALSCALE:GREGORIAN
BEGIN:VTIMEZONE
TZID:America/Chicago
BEGIN:DAYLIGHT
RRULE:FREQ=YEARLY;BYMONTH=3;BYDAY=2SU
DTSTART:20070101T000000
TZOFFSETFROM:-0600
TZOFFSETTO:-0500
TZNAME:Central Daylight Time
END:DAYLIGHT
BEGIN:STANDARD
RRULE:FREQ=YEARLY;BYMONTH=11;BYDAY=1SU
DTSTART:20070101T000000
TZOFFSETFROM:-0500
TZOFFSETTO:-0600
TZNAME:Central Standard Time
END:STANDARD
END:VTIMEZONE
BEGIN:VEVENT
DTSTART;TZID=America/Chicago:20251129T120000
DTEND;TZID=America/Chicago:20251129T180000
X-MICROSOFT-CDO-ALLDAYEVENT:FALSE
SUMMARY:Mario Kart Tournament @ West O Beer
DESCRIPTION:Gear up\, gamers — West O Beer and Exile Gaming are teaming up for a monthly Esports Tournament series\, and you’re invited to compete! 🎮\n\nFor just $10 per person\, battle it out for cash\, merch and more. Each tournament kicks off at noon in The Loft!\n\n🏎️ Saturday\, Nov. 29 — Mario Kart\n🥊 Saturday\, Dec. 20 — Smash Bros\n🎳 Saturday\, Jan. 17 — Wii Sports\n🧱 Saturday\, Feb. 21 — Classic Tetris\n🥷 Saturday\, March 21 — Street Fighter\n\nGrab your crew\, sharpen your skills and get ready to play!
X-ALT-DESC;FMTTYPE=text/html:Gear up\, gamers — West O Beer and Exile Gaming are teaming up for a monthly Esports Tournament series\, and you’re invited to compete! 🎮\n\nFor just $10 per person\, battle it out for cash\, merch and more. Each tournament kicks off at noon in The Loft!\n\n🏎️ Saturday\, Nov. 29 — Mario Kart\n🥊 Saturday\, Dec. 20 — Smash Bros\n🎳 Saturday\, Jan. 17 — Wii Sports\n🧱 Saturday\, Feb. 21 — Classic Tetris\n🥷 Saturday\, March 21 — Street Fighter\n\nGrab your crew\, sharpen your skills and get ready to play!
LOCATION:503 Terrace Park Blvd West Okoboji IA 51351
UID:e.2496.1333017
SEQUENCE:3
DTSTAMP:20260420T085912Z
URL:https://members.okobojichamber.com/chamber-events/Details/mario-kart-tournament-west-o-beer-1564354?sourceTypeId=Hub
END:VEVENT
END:VCALENDAR
